BEGIN:VCALENDAR
VERSION:2.0
PRODID:-//Cumbria First Aid Training Courses - ECPv6.15.11//NONSGML v1.0//EN
CALSCALE:GREGORIAN
METHOD:PUBLISH
X-WR-CALNAME:Cumbria First Aid Training Courses
X-ORIGINAL-URL:https://www.lakesfirstaid.co.uk
X-WR-CALDESC:Events for Cumbria First Aid Training Courses
REFRESH-INTERVAL;VALUE=DURATION:PT1H
X-Robots-Tag:noindex
X-PUBLISHED-TTL:PT1H
BEGIN:VTIMEZONE
TZID:Europe/London
BEGIN:DAYLIGHT
TZOFFSETFROM:+0000
TZOFFSETTO:+0100
TZNAME:BST
DTSTART:20250330T010000
END:DAYLIGHT
BEGIN:STANDARD
TZOFFSETFROM:+0100
TZOFFSETTO:+0000
TZNAME:GMT
DTSTART:20251026T010000
END:STANDARD
BEGIN:DAYLIGHT
TZOFFSETFROM:+0000
TZOFFSETTO:+0100
TZNAME:BST
DTSTART:20260329T010000
END:DAYLIGHT
BEGIN:STANDARD
TZOFFSETFROM:+0100
TZOFFSETTO:+0000
TZNAME:GMT
DTSTART:20261025T010000
END:STANDARD
BEGIN:DAYLIGHT
TZOFFSETFROM:+0000
TZOFFSETTO:+0100
TZNAME:BST
DTSTART:20270328T010000
END:DAYLIGHT
BEGIN:STANDARD
TZOFFSETFROM:+0100
TZOFFSETTO:+0000
TZNAME:GMT
DTSTART:20271031T010000
END:STANDARD
END:VTIMEZONE
BEGIN:VEVENT
DTSTART;TZID=Europe/London:20260714T093000
DTEND;TZID=Europe/London:20260714T173000
DTSTAMP:20260420T114319
CREATED:20260413T140658Z
LAST-MODIFIED:20260413T140907Z
UID:16270-1784021400-1784050200@www.lakesfirstaid.co.uk
SUMMARY:Emergency First Aid at Work / First Aid at Work Requalification (Blended Learning)
DESCRIPTION:emergency First aid at work\nDuration: 1-day practical \nTimes: 9.30am – 4.30pm  (registration at 9.20am) \nCertificate: Emergency First Aid at Work (EFAW) \nDescription: Emergency first aid training for small & medium businesses with a low to medium risk work environment. \nApproved training:  This is course is  approved & certificated by the Active Aid and meets the national training requirements for emergency first aid in the workplace & the Health and Safety (First-Aid) Regulations 1981. \nFull courses details: Emergency First  Aid at Work Course Syllabus » \nOfqual certification:  If you require an Ofqual approved certificate instead please contact us » \n\nFirst aid at work requalification (Blended Learning)\nDuration: 1 day e-learning + 1 day practical* \nTimes: 9.30am – 5.30pm  (registration at 9.20am) \nCertificate: Level 3 First Aid at Work (RQF) \nDescription:  First aid in the workplace for those working in high risk environments such as light engineering\, food processing\, dangerous machinery & heavy plant construction\, large organisations or workers in remote locations. \nApproved training:  This is course is Ofqual approved & certificated by the Qualifications Network and meets the national training requirements for Health and Safety (First-Aid) Regulations 1981. \nFull courses details: First  Aid at Work Course Syllabus » \n*Blended learning note:  This course combines an e-learning module and a 1-day practical training session. The e-learning module is completed online prior to your practical session and is equivalent to  1/2 of your course. The remaining 1/2 of the course  is completed as one practical day. \n\ncourse full? \nIf there are no spaces on this course please check our course dates or contact us to be placed on a waiting list.
URL:https://www.lakesfirstaid.co.uk/course/emergency-first-aid-at-work-first-aid-at-work-requalification-blended-learning-14-july-2026-carlisle-penrith-keswick-kendal-whitehaven-cockermouth-workington/
LOCATION:Penrith Quaker Meeting House\, Meeting House Lane\, Penrith\, CA11 7TR
CATEGORIES:Blended Learning (E-learn),Driver CPC,Emergency First Aid at Work,Emergency First Aid for Schools,FAW Requal,First Aid at Work
ORGANIZER;CN="Lakes First Aid":MAILTO:enquiries@lakesfirstaid.co.uk
GEO:54.666501595382;-2.7513828798037
X-APPLE-STRUCTURED-LOCATION;VALUE=URI;X-ADDRESS=Penrith Quaker Meeting House Meeting House Lane Penrith CA11 7TR;X-APPLE-RADIUS=500;X-TITLE=Meeting House Lane:geo:-2.7513828798037,54.666501595382
END:VEVENT
END:VCALENDAR